BEGIN:VCALENDAR
VERSION:2.0
PRODID:spatie/icalendar-generator
DESCRIPTION:Events from philomathscoutlodge.com
X-WR-CALDESC:Events from philomathscoutlodge.com
REFRESH-INTERVAL;VALUE=DURATION:PT1440M
X-PUBLISHED-TTL:PT1440M
BEGIN:VTIMEZONE
TZID:Etc/GMT+0
BEGIN:STANDARD
DTSTART:20240213T000000Z
TZOFFSETFROM:+0000
TZOFFSETTO:+0000
END:STANDARD
END:VTIMEZONE
BEGIN:VTIMEZONE
TZID:UTC
BEGIN:STANDARD
DTSTART:20250729T215931Z
TZOFFSETFROM:+0000
TZOFFSETTO:+0000
END:STANDARD
END:VTIMEZONE
BEGIN:VEVENT
UID:97-6
DTSTAMP:20260425T215931Z
SUMMARY:Laswell &amp;amp\; Thomas Wedding
LOCATION:Philomath Scout Lodge 660 CLEMENS MILL RD  PHILOMATH\, OR 97370
ORGANIZER;CN=PSL Staff:MAILTO:psli@peak.org
DTSTART;TZID=Etc/GMT+0;VALUE=DATE:20241109
DTEND;TZID=Etc/GMT+0;VALUE=DATE:20241110
X-ALT-DESC;FMTTYPE=TEXT/HTML:Great Hall\, Starker 1 &amp;amp\;amp\; 2
CATEGORIES:Wedding Events
URL;VALUE=URI:https://philomathscoutlodge.com/mc-events/laswell-thomas-wedd
 ing/
METHOD:PUBLISH
END:VEVENT
END:VCALENDAR