BEGIN:VCALENDAR
VERSION:2.0
PRODID:spatie/icalendar-generator
DESCRIPTION:Events from philomathscoutlodge.com
X-WR-CALDESC:Events from philomathscoutlodge.com
REFRESH-INTERVAL;VALUE=DURATION:PT1440M
X-PUBLISHED-TTL:PT1440M
BEGIN:VTIMEZONE
TZID:Etc/GMT+0
BEGIN:STANDARD
DTSTART:20240317T173000Z
TZOFFSETFROM:+0000
TZOFFSETTO:+0000
END:STANDARD
END:VTIMEZONE
BEGIN:VTIMEZONE
TZID:UTC
BEGIN:STANDARD
DTSTART:20250729T180302Z
TZOFFSETFROM:+0000
TZOFFSETTO:+0000
END:STANDARD
END:VTIMEZONE
BEGIN:VEVENT
UID:89-28
DTSTAMP:20260425T180302Z
SUMMARY:Girl Scouts
LOCATION:
ORGANIZER;CN=PSL Staff:MAILTO:psli@peak.org
RRULE:FREQ=MONTHLY;BYDAY=2TH;UNTIL=20241219T000000Z
DTSTART;TZID=Etc/GMT+0:20241212T173000
DTEND;TZID=Etc/GMT+0:20241212T193000
X-ALT-DESC;FMTTYPE=TEXT/HTML:DONATED EVENT Ralph Hull\, third Thursday of e
 very month
CATEGORIES:Donated Events
URL;VALUE=URI:https://philomathscoutlodge.com/mc-events/girl-scouts/?mc_id=
 89
METHOD:PUBLISH
END:VEVENT
END:VCALENDAR