BEGIN:VCALENDAR
VERSION:2.0
PRODID:spatie/icalendar-generator
DESCRIPTION:Events from philomathscoutlodge.com
X-WR-CALDESC:Events from philomathscoutlodge.com
REFRESH-INTERVAL;VALUE=DURATION:PT1440M
X-PUBLISHED-TTL:PT1440M
BEGIN:VTIMEZONE
TZID:Etc/GMT+0
BEGIN:STANDARD
DTSTART:20241015T090000Z
TZOFFSETFROM:+0000
TZOFFSETTO:+0000
END:STANDARD
END:VTIMEZONE
BEGIN:VTIMEZONE
TZID:UTC
BEGIN:STANDARD
DTSTART:20250730T015803Z
TZOFFSETFROM:+0000
TZOFFSETTO:+0000
END:STANDARD
END:VTIMEZONE
BEGIN:VEVENT
UID:28-20
DTSTAMP:20260426T015803Z
SUMMARY:Aguon Wedding
LOCATION:
ORGANIZER;CN=PSL Staff:MAILTO:psli@peak.org
DTSTART;TZID=Etc/GMT+0:20250712T090000
DTEND;TZID=Etc/GMT+0:20250712T230000
X-ALT-DESC;FMTTYPE=TEXT/HTML:One Day Wedding Package Great Hall\, Starker 1
  &amp;amp\; 2
CATEGORIES:Donated Events
URL;VALUE=URI:https://philomathscoutlodge.com/mc-events/aguon-wedding/
METHOD:PUBLISH
END:VEVENT
END:VCALENDAR