BEGIN:VCALENDAR
VERSION:2.0
PRODID:spatie/icalendar-generator
DESCRIPTION:Events from philomathscoutlodge.com
X-WR-CALDESC:Events from philomathscoutlodge.com
REFRESH-INTERVAL;VALUE=DURATION:PT1440M
X-PUBLISHED-TTL:PT1440M
BEGIN:VTIMEZONE
TZID:Etc/GMT+0
BEGIN:STANDARD
DTSTART:20250723T150000Z
TZOFFSETFROM:+0000
TZOFFSETTO:+0000
END:STANDARD
END:VTIMEZONE
BEGIN:VTIMEZONE
TZID:UTC
BEGIN:STANDARD
DTSTART:20250729T135459Z
TZOFFSETFROM:+0000
TZOFFSETTO:+0000
END:STANDARD
END:VTIMEZONE
BEGIN:VEVENT
UID:272-122
DTSTAMP:20260425T135459Z
SUMMARY:Kronmiller Eagle Court of Honor
LOCATION:
ORGANIZER;CN=PSL Staff:MAILTO:psli@peak.org
DTSTART;TZID=Etc/GMT+0:20260419T150000
DTEND;TZID=Etc/GMT+0:20260419T160000
X-ALT-DESC;FMTTYPE=TEXT/HTML:
CATEGORIES:General
URL;VALUE=URI:https://philomathscoutlodge.com/mc-events/kronmiller-eagle-co
 urt-of-honor/
METHOD:PUBLISH
END:VEVENT
END:VCALENDAR