BEGIN:VCALENDAR
VERSION:2.0
PRODID:spatie/icalendar-generator
DESCRIPTION:Events from philomathscoutlodge.com
X-WR-CALDESC:Events from philomathscoutlodge.com
REFRESH-INTERVAL;VALUE=DURATION:PT1440M
X-PUBLISHED-TTL:PT1440M
BEGIN:VTIMEZONE
TZID:Etc/GMT+0
BEGIN:STANDARD
DTSTART:20250416T123000Z
TZOFFSETFROM:+0000
TZOFFSETTO:+0000
END:STANDARD
END:VTIMEZONE
BEGIN:VTIMEZONE
TZID:UTC
BEGIN:STANDARD
DTSTART:20250729T221357Z
TZOFFSETFROM:+0000
TZOFFSETTO:+0000
END:STANDARD
END:VTIMEZONE
BEGIN:VEVENT
UID:264-115
DTSTAMP:20260425T221357Z
SUMMARY:Court of Honor
LOCATION:
ORGANIZER;CN=PSL Staff:MAILTO:psli@peak.org
DTSTART;TZID=Etc/GMT+0:20260111T123000
DTEND;TZID=Etc/GMT+0:20260111T163000
X-ALT-DESC;FMTTYPE=TEXT/HTML:Tier 1 Donation: Great Hall\, Projector/Screen
CATEGORIES:Community Use
URL;VALUE=URI:https://philomathscoutlodge.com/mc-events/court-of-honor/
METHOD:PUBLISH
END:VEVENT
END:VCALENDAR