BEGIN:VCALENDAR
VERSION:2.0
PRODID:spatie/icalendar-generator
DESCRIPTION:Events from philomathscoutlodge.com
X-WR-CALDESC:Events from philomathscoutlodge.com
REFRESH-INTERVAL;VALUE=DURATION:PT1440M
X-PUBLISHED-TTL:PT1440M
BEGIN:VTIMEZONE
TZID:Etc/GMT+0
BEGIN:STANDARD
DTSTART:20250811T000000Z
TZOFFSETFROM:+0000
TZOFFSETTO:+0000
END:STANDARD
END:VTIMEZONE
BEGIN:VTIMEZONE
TZID:UTC
BEGIN:STANDARD
DTSTART:20250730T003250Z
TZOFFSETFROM:+0000
TZOFFSETTO:+0000
END:STANDARD
END:VTIMEZONE
BEGIN:VEVENT
UID:263-114
DTSTAMP:20260426T003250Z
SUMMARY:Mother's Day Craft Show
LOCATION:
ORGANIZER;CN=PSL Staff:MAILTO:psli@peak.org
DTSTART;TZID=Etc/GMT+0;VALUE=DATE:20260508
DTEND;TZID=Etc/GMT+0;VALUE=DATE:20260510
X-ALT-DESC;FMTTYPE=TEXT/HTML:Entire Lodge More information to come in 2026!
CATEGORIES:Community Use
URL;VALUE=URI:https://philomathscoutlodge.com/mc-events/mothers-day-craft-s
 how/
METHOD:PUBLISH
END:VEVENT
END:VCALENDAR