BEGIN:VCALENDAR
VERSION:2.0
PRODID:spatie/icalendar-generator
DESCRIPTION:Events from philomathscoutlodge.com
X-WR-CALDESC:Events from philomathscoutlodge.com
REFRESH-INTERVAL;VALUE=DURATION:PT1440M
X-PUBLISHED-TTL:PT1440M
BEGIN:VTIMEZONE
TZID:Etc/GMT+0
BEGIN:STANDARD
DTSTART:20231119T070000Z
TZOFFSETFROM:+0000
TZOFFSETTO:+0000
END:STANDARD
END:VTIMEZONE
BEGIN:VTIMEZONE
TZID:UTC
BEGIN:STANDARD
DTSTART:20250730T000424Z
TZOFFSETFROM:+0000
TZOFFSETTO:+0000
END:STANDARD
END:VTIMEZONE
BEGIN:VEVENT
UID:25-17
DTSTAMP:20260426T000424Z
SUMMARY:Community Services Consortium
LOCATION:
ORGANIZER;CN=PSL Staff:MAILTO:psli@peak.org
DTSTART;TZID=Etc/GMT+0:20240815T070000
DTEND;TZID=Etc/GMT+0:20240816T170000
X-ALT-DESC;FMTTYPE=TEXT/HTML:Entire Lodge &amp;amp\; Kitchen
CATEGORIES:Community Use
URL;VALUE=URI:https://philomathscoutlodge.com/mc-events/community-services-
 consortium/
METHOD:PUBLISH
END:VEVENT
END:VCALENDAR