BEGIN:VCALENDAR
VERSION:2.0
PRODID:spatie/icalendar-generator
DESCRIPTION:Events from philomathscoutlodge.com
X-WR-CALDESC:Events from philomathscoutlodge.com
REFRESH-INTERVAL;VALUE=DURATION:PT1440M
X-PUBLISHED-TTL:PT1440M
BEGIN:VTIMEZONE
TZID:Etc/GMT+0
BEGIN:STANDARD
DTSTART:20250706T173000Z
TZOFFSETFROM:+0000
TZOFFSETTO:+0000
END:STANDARD
END:VTIMEZONE
BEGIN:VTIMEZONE
TZID:UTC
BEGIN:STANDARD
DTSTART:20250729T133830Z
TZOFFSETFROM:+0000
TZOFFSETTO:+0000
END:STANDARD
END:VTIMEZONE
BEGIN:VEVENT
UID:230-109
DTSTAMP:20260425T133830Z
SUMMARY:Girl Scout Troop 10310
LOCATION:
ORGANIZER;CN=PSL Staff:MAILTO:psli@peak.org
DTSTART;TZID=Etc/GMT+0:20260402T173000
DTEND;TZID=Etc/GMT+0:20260402T193000
X-ALT-DESC;FMTTYPE=TEXT/HTML:Tier 1: Ralph Hull &amp;amp\; Outside Areas
CATEGORIES:Community Use
URL;VALUE=URI:https://philomathscoutlodge.com/mc-events/girl-scout-troop-10
 310-5/
METHOD:PUBLISH
END:VEVENT
END:VCALENDAR