BEGIN:VCALENDAR
VERSION:2.0
PRODID:spatie/icalendar-generator
DESCRIPTION:Events from philomathscoutlodge.com
X-WR-CALDESC:Events from philomathscoutlodge.com
REFRESH-INTERVAL;VALUE=DURATION:PT1440M
X-PUBLISHED-TTL:PT1440M
BEGIN:VTIMEZONE
TZID:Etc/GMT+0
BEGIN:STANDARD
DTSTART:20231026T070000Z
TZOFFSETFROM:+0000
TZOFFSETTO:+0000
END:STANDARD
END:VTIMEZONE
BEGIN:VTIMEZONE
TZID:UTC
BEGIN:STANDARD
DTSTART:20250730T005755Z
TZOFFSETFROM:+0000
TZOFFSETTO:+0000
END:STANDARD
END:VTIMEZONE
BEGIN:VEVENT
UID:22-14
DTSTAMP:20260426T005755Z
SUMMARY:Camp Good News
LOCATION:
ORGANIZER;CN=PSL Staff:MAILTO:psli@peak.org
DTSTART;TZID=Etc/GMT+0:20240722T070000
DTEND;TZID=Etc/GMT+0:20240726T190000
X-ALT-DESC;FMTTYPE=TEXT/HTML:Entire Lodge- DONATED EVENT
CATEGORIES:Donated Events
URL;VALUE=URI:https://philomathscoutlodge.com/mc-events/camp-good-news-2/
METHOD:PUBLISH
END:VEVENT
END:VCALENDAR