BEGIN:VCALENDAR
VERSION:2.0
PRODID:spatie/icalendar-generator
DESCRIPTION:Events from philomathscoutlodge.com
X-WR-CALDESC:Events from philomathscoutlodge.com
REFRESH-INTERVAL;VALUE=DURATION:PT1440M
X-PUBLISHED-TTL:PT1440M
BEGIN:VTIMEZONE
TZID:Etc/GMT+0
BEGIN:STANDARD
DTSTART:20250622T080000Z
TZOFFSETFROM:+0000
TZOFFSETTO:+0000
END:STANDARD
END:VTIMEZONE
BEGIN:VTIMEZONE
TZID:UTC
BEGIN:STANDARD
DTSTART:20250729T200338Z
TZOFFSETFROM:+0000
TZOFFSETTO:+0000
END:STANDARD
END:VTIMEZONE
BEGIN:VEVENT
UID:211-90
DTSTAMP:20260425T200338Z
SUMMARY:Alzheimer's Association: Conference
LOCATION:
ORGANIZER;CN=PSL Staff:MAILTO:psli@peak.org
DTSTART;TZID=Etc/GMT+0:20260319T080000
DTEND;TZID=Etc/GMT+0:20260319T144500
X-ALT-DESC;FMTTYPE=TEXT/HTML:This event is Tier 1\, and we decided by the P
 SL Board of Directors. This is the second year PSL has provided Tier 1 to 
 this event. Great Hall/Projector Screen
CATEGORIES:Community Use
URL;VALUE=URI:https://philomathscoutlodge.com/mc-events/alzheimers-associat
 ion-conference/
METHOD:PUBLISH
END:VEVENT
END:VCALENDAR