BEGIN:VCALENDAR
VERSION:2.0
PRODID:spatie/icalendar-generator
DESCRIPTION:Events from philomathscoutlodge.com
X-WR-CALDESC:Events from philomathscoutlodge.com
REFRESH-INTERVAL;VALUE=DURATION:PT1440M
X-PUBLISHED-TTL:PT1440M
BEGIN:VTIMEZONE
TZID:Etc/GMT+0
BEGIN:STANDARD
DTSTART:20241014T150000Z
TZOFFSETFROM:+0000
TZOFFSETTO:+0000
END:STANDARD
END:VTIMEZONE
BEGIN:VTIMEZONE
TZID:UTC
BEGIN:STANDARD
DTSTART:20250729T220032Z
TZOFFSETFROM:+0000
TZOFFSETTO:+0000
END:STANDARD
END:VTIMEZONE
BEGIN:VEVENT
UID:203-83
DTSTAMP:20260425T220032Z
SUMMARY:Aguon Wedding Rehearsal
LOCATION:
ORGANIZER;CN=PSL Staff:MAILTO:psli@peak.org
DTSTART;TZID=Etc/GMT+0:20250711T150000
DTEND;TZID=Etc/GMT+0:20250711T160000
X-ALT-DESC;FMTTYPE=TEXT/HTML:Great Hall\, Starker 1 &amp;amp\; 2\, Kitchen\, Ou
 tside areas
CATEGORIES:Community Use
URL;VALUE=URI:https://philomathscoutlodge.com/mc-events/aguon-wedding-rehea
 rsal/
METHOD:PUBLISH
END:VEVENT
END:VCALENDAR