BEGIN:VCALENDAR
VERSION:2.0
PRODID:spatie/icalendar-generator
DESCRIPTION:Events from philomathscoutlodge.com
X-WR-CALDESC:Events from philomathscoutlodge.com
REFRESH-INTERVAL;VALUE=DURATION:PT1440M
X-PUBLISHED-TTL:PT1440M
BEGIN:VTIMEZONE
TZID:Etc/GMT+0
BEGIN:STANDARD
DTSTART:20230926T000000Z
TZOFFSETFROM:+0000
TZOFFSETTO:+0000
END:STANDARD
END:VTIMEZONE
BEGIN:VTIMEZONE
TZID:UTC
BEGIN:STANDARD
DTSTART:20250730T022224Z
TZOFFSETFROM:+0000
TZOFFSETTO:+0000
END:STANDARD
END:VTIMEZONE
BEGIN:VEVENT
UID:18-10
DTSTAMP:20260426T022224Z
SUMMARY:Tai Wedding
LOCATION:
ORGANIZER;CN=PSL Staff:MAILTO:psli@peak.org
DTSTART;TZID=Etc/GMT+0;VALUE=DATE:20240622
DTEND;TZID=Etc/GMT+0;VALUE=DATE:20240623
X-ALT-DESC;FMTTYPE=TEXT/HTML:Great Hall\, Starker 1 &amp;amp\;amp\; 2
CATEGORIES:Wedding Events
URL;VALUE=URI:https://philomathscoutlodge.com/mc-events/tai-wedding/
METHOD:PUBLISH
END:VEVENT
END:VCALENDAR