BEGIN:VCALENDAR
VERSION:2.0
PRODID:spatie/icalendar-generator
DESCRIPTION:Events from philomathscoutlodge.com
X-WR-CALDESC:Events from philomathscoutlodge.com
REFRESH-INTERVAL;VALUE=DURATION:PT1440M
X-PUBLISHED-TTL:PT1440M
BEGIN:VTIMEZONE
TZID:Etc/GMT+0
BEGIN:STANDARD
DTSTART:20240406T000000Z
TZOFFSETFROM:+0000
TZOFFSETTO:+0000
END:STANDARD
END:VTIMEZONE
BEGIN:VTIMEZONE
TZID:UTC
BEGIN:STANDARD
DTSTART:20250729T200311Z
TZOFFSETFROM:+0000
TZOFFSETTO:+0000
END:STANDARD
END:VTIMEZONE
BEGIN:VEVENT
UID:178-61
DTSTAMP:20260425T200311Z
SUMMARY:Happy New Year!
LOCATION:
ORGANIZER;CN=PSL Staff:MAILTO:psli@peak.org
DTSTART;TZID=Etc/GMT+0;VALUE=DATE:20250101
DTEND;TZID=Etc/GMT+0;VALUE=DATE:20250102
X-ALT-DESC;FMTTYPE=TEXT/HTML:Office Closed
CATEGORIES:Community Use
URL;VALUE=URI:https://philomathscoutlodge.com/mc-events/happy-new-year/
METHOD:PUBLISH
END:VEVENT
END:VCALENDAR