BEGIN:VCALENDAR
VERSION:2.0
PRODID:spatie/icalendar-generator
DESCRIPTION:Events from philomathscoutlodge.com
X-WR-CALDESC:Events from philomathscoutlodge.com
REFRESH-INTERVAL;VALUE=DURATION:PT1440M
X-PUBLISHED-TTL:PT1440M
BEGIN:VTIMEZONE
TZID:Etc/GMT+0
BEGIN:STANDARD
DTSTART:20240318T170000Z
TZOFFSETFROM:+0000
TZOFFSETTO:+0000
END:STANDARD
END:VTIMEZONE
BEGIN:VTIMEZONE
TZID:UTC
BEGIN:STANDARD
DTSTART:20250729T200416Z
TZOFFSETFROM:+0000
TZOFFSETTO:+0000
END:STANDARD
END:VTIMEZONE
BEGIN:VEVENT
UID:175-58
DTSTAMP:20260425T200416Z
SUMMARY:Soft Star Shoes: Holiday Party
LOCATION:
ORGANIZER;CN=PSL Staff:MAILTO:psli@peak.org
DTSTART;TZID=Etc/GMT+0:20241213T170000
DTEND;TZID=Etc/GMT+0:20241213T220000
X-ALT-DESC;FMTTYPE=TEXT/HTML:Ralph Hull
CATEGORIES:Community Use
URL;VALUE=URI:https://philomathscoutlodge.com/mc-events/soft-star-shoes-hol
 iday-party/
METHOD:PUBLISH
END:VEVENT
END:VCALENDAR