BEGIN:VCALENDAR
VERSION:2.0
PRODID:spatie/icalendar-generator
DESCRIPTION:Events from philomathscoutlodge.com
X-WR-CALDESC:Events from philomathscoutlodge.com
REFRESH-INTERVAL;VALUE=DURATION:PT1440M
X-PUBLISHED-TTL:PT1440M
BEGIN:VTIMEZONE
TZID:Etc/GMT+0
BEGIN:STANDARD
DTSTART:20230905T000000Z
TZOFFSETFROM:+0000
TZOFFSETTO:+0000
END:STANDARD
END:VTIMEZONE
BEGIN:VTIMEZONE
TZID:UTC
BEGIN:STANDARD
DTSTART:20250730T002408Z
TZOFFSETFROM:+0000
TZOFFSETTO:+0000
END:STANDARD
END:VTIMEZONE
BEGIN:VEVENT
UID:15-11
DTSTAMP:20260426T002408Z
SUMMARY:Non-profit Garage Sale!
LOCATION:
ORGANIZER;CN=PSL Staff:MAILTO:psli@peak.org
DTSTART;TZID=Etc/GMT+0;VALUE=DATE:20240601
DTEND;TZID=Etc/GMT+0;VALUE=DATE:20240602
X-ALT-DESC;FMTTYPE=TEXT/HTML:Join us at PSL for a non-profit garage sale! G
 arage sale items &amp;amp\;amp\; Concessions for sale! FREE admission.
CATEGORIES:Lodge Events
URL;VALUE=URI:https://philomathscoutlodge.com/mc-events/non-profit-garage-s
 ale/
METHOD:PUBLISH
END:VEVENT
END:VCALENDAR