BEGIN:VCALENDAR
VERSION:2.0
PRODID:spatie/icalendar-generator
DESCRIPTION:Events from philomathscoutlodge.com
X-WR-CALDESC:Events from philomathscoutlodge.com
REFRESH-INTERVAL;VALUE=DURATION:PT1440M
X-PUBLISHED-TTL:PT1440M
BEGIN:VTIMEZONE
TZID:Etc/GMT+0
BEGIN:STANDARD
DTSTART:20240922T000000Z
TZOFFSETFROM:+0000
TZOFFSETTO:+0000
END:STANDARD
END:VTIMEZONE
BEGIN:VTIMEZONE
TZID:UTC
BEGIN:STANDARD
DTSTART:20250730T023722Z
TZOFFSETFROM:+0000
TZOFFSETTO:+0000
END:STANDARD
END:VTIMEZONE
BEGIN:VEVENT
UID:120-52
DTSTAMP:20260426T023722Z
SUMMARY:Oregon Small Woodlands Association: Oregon Family Forest Convention
LOCATION:
ORGANIZER;CN=PSL Staff:MAILTO:psli@peak.org
DTSTART;TZID=Etc/GMT+0;VALUE=DATE:20250619
DTEND;TZID=Etc/GMT+0;VALUE=DATE:20250621
X-ALT-DESC;FMTTYPE=TEXT/HTML:Great Hall\, projector both days
CATEGORIES:Community Use
URL;VALUE=URI:https://philomathscoutlodge.com/mc-events/oregon-small-woodla
 nds-association-oregon-family-forest-convention/
METHOD:PUBLISH
END:VEVENT
END:VCALENDAR