BEGIN:VCALENDAR
VERSION:2.0
PRODID:spatie/icalendar-generator
DESCRIPTION:Events from philomathscoutlodge.com
X-WR-CALDESC:Events from philomathscoutlodge.com
REFRESH-INTERVAL;VALUE=DURATION:PT1440M
X-PUBLISHED-TTL:PT1440M
BEGIN:VTIMEZONE
TZID:Etc/GMT+0
BEGIN:STANDARD
DTSTART:20231218T000000Z
TZOFFSETFROM:+0000
TZOFFSETTO:+0000
END:STANDARD
END:VTIMEZONE
BEGIN:VTIMEZONE
TZID:UTC
BEGIN:STANDARD
DTSTART:20250730T022128Z
TZOFFSETFROM:+0000
TZOFFSETTO:+0000
END:STANDARD
END:VTIMEZONE
BEGIN:VEVENT
UID:111-47
DTSTAMP:20260426T022128Z
SUMMARY:Troop 5592 Camping
LOCATION:
ORGANIZER;CN=PSL Staff:MAILTO:psli@peak.org
DTSTART;TZID=Etc/GMT+0;VALUE=DATE:20240913
DTEND;TZID=Etc/GMT+0;VALUE=DATE:20240916
X-ALT-DESC;FMTTYPE=TEXT/HTML:Troop 5592 will be camping at PSL free of char
 ge.
CATEGORIES:Community Use
URL;VALUE=URI:https://philomathscoutlodge.com/mc-events/troop-5592-camping/
METHOD:PUBLISH
END:VEVENT
END:VCALENDAR