BEGIN:VCALENDAR
VERSION:2.0
PRODID:spatie/icalendar-generator
DESCRIPTION:Events from philomathscoutlodge.com
X-WR-CALDESC:Events from philomathscoutlodge.com
REFRESH-INTERVAL;VALUE=DURATION:PT1440M
X-PUBLISHED-TTL:PT1440M
BEGIN:VTIMEZONE
TZID:Etc/GMT+0
BEGIN:STANDARD
DTSTART:20240217T180000Z
TZOFFSETFROM:+0000
TZOFFSETTO:+0000
END:STANDARD
END:VTIMEZONE
BEGIN:VTIMEZONE
TZID:UTC
BEGIN:STANDARD
DTSTART:20250729T221357Z
TZOFFSETFROM:+0000
TZOFFSETTO:+0000
END:STANDARD
END:VTIMEZONE
BEGIN:VEVENT
UID:108-41
DTSTAMP:20260425T221357Z
SUMMARY:Lifewize Ministries- Praise &amp;amp\; Share
LOCATION:
ORGANIZER;CN=PSL Staff:MAILTO:psli@peak.org
DTSTART;TZID=Etc/GMT+0:20241113T180000
DTEND;TZID=Etc/GMT+0:20241113T190000
X-ALT-DESC;FMTTYPE=TEXT/HTML:Conference Room
CATEGORIES:Community Use
URL;VALUE=URI:https://philomathscoutlodge.com/mc-events/lifewize-ministries
 -praise-share-7/
METHOD:PUBLISH
END:VEVENT
END:VCALENDAR