BEGIN:VCALENDAR
VERSION:2.0
PRODID:spatie/icalendar-generator
DESCRIPTION:Events from philomathscoutlodge.com
X-WR-CALDESC:Events from philomathscoutlodge.com
REFRESH-INTERVAL;VALUE=DURATION:PT1440M
X-PUBLISHED-TTL:PT1440M
BEGIN:VTIMEZONE
TZID:Etc/GMT+0
BEGIN:STANDARD
DTSTART:20240130T120000Z
TZOFFSETFROM:+0000
TZOFFSETTO:+0000
END:STANDARD
END:VTIMEZONE
BEGIN:VTIMEZONE
TZID:UTC
BEGIN:STANDARD
DTSTART:20250730T043205Z
TZOFFSETFROM:+0000
TZOFFSETTO:+0000
END:STANDARD
END:VTIMEZONE
BEGIN:VEVENT
UID:96-30
DTSTAMP:20260426T043205Z
SUMMARY:Phillomath Open Studios
LOCATION:
ORGANIZER;CN=PSL Staff:MAILTO:psli@peak.org
DTSTART;TZID=Etc/GMT+0:20241026T120000
DTEND;TZID=Etc/GMT+0:20241027T170000
X-ALT-DESC;FMTTYPE=TEXT/HTML:Foyer
CATEGORIES:Donated Events
URL;VALUE=URI:https://philomathscoutlodge.com/mc-events/phillomath-open-stu
 dios/
METHOD:PUBLISH
END:VEVENT
END:VCALENDAR