BEGIN:VCALENDAR
VERSION:2.0
PRODID:spatie/icalendar-generator
DESCRIPTION:Events from philomathscoutlodge.com
X-WR-CALDESC:Events from philomathscoutlodge.com
REFRESH-INTERVAL;VALUE=DURATION:PT1440M
X-PUBLISHED-TTL:PT1440M
BEGIN:VTIMEZONE
TZID:Etc/GMT+0
BEGIN:STANDARD
DTSTART:20240114T180000Z
TZOFFSETFROM:+0000
TZOFFSETTO:+0000
END:STANDARD
END:VTIMEZONE
BEGIN:VTIMEZONE
TZID:UTC
BEGIN:STANDARD
DTSTART:20250730T010007Z
TZOFFSETFROM:+0000
TZOFFSETTO:+0000
END:STANDARD
END:VTIMEZONE
BEGIN:VEVENT
UID:84-27
DTSTAMP:20260426T010007Z
SUMMARY:Philomath Scout Lodge Board Meeting
LOCATION:
ORGANIZER;CN=PSL Staff:MAILTO:psli@peak.org
RRULE:FREQ=MONTHLY;BYDAY=2TH;UNTIL=20241201T000000Z
DTSTART;TZID=Etc/GMT+0:20241010T180000
DTEND;TZID=Etc/GMT+0:20241010T190000
X-ALT-DESC;FMTTYPE=TEXT/HTML:Oregon Community Conference Room
CATEGORIES:Donated Events
URL;VALUE=URI:https://philomathscoutlodge.com/mc-events/philomath-scout-lod
 ge-board-meeting/?mc_id=84
METHOD:PUBLISH
END:VEVENT
END:VCALENDAR