BEGIN:VCALENDAR
VERSION:2.0
PRODID:spatie/icalendar-generator
DESCRIPTION:Events from philomathscoutlodge.com
X-WR-CALDESC:Events from philomathscoutlodge.com
REFRESH-INTERVAL;VALUE=DURATION:PT1440M
X-PUBLISHED-TTL:PT1440M
BEGIN:VTIMEZONE
TZID:Etc/GMT+0
BEGIN:STANDARD
DTSTART:20240316T090000Z
TZOFFSETFROM:+0000
TZOFFSETTO:+0000
END:STANDARD
END:VTIMEZONE
BEGIN:VTIMEZONE
TZID:UTC
BEGIN:STANDARD
DTSTART:20250729T160515Z
TZOFFSETFROM:+0000
TZOFFSETTO:+0000
END:STANDARD
END:VTIMEZONE
BEGIN:VEVENT
UID:78-25
DTSTAMP:20260425T160515Z
SUMMARY:Quilts from Caring Hands
LOCATION:
ORGANIZER;CN=PSL Staff:MAILTO:psli@peak.org
RRULE:FREQ=WEEKLY;UNTIL=20250101T000000Z
DTSTART;TZID=Etc/GMT+0:20241211T090000
DTEND;TZID=Etc/GMT+0:20241211T120000
X-ALT-DESC;FMTTYPE=TEXT/HTML:Fry Room\, Starker 1 &amp;amp\; 2
CATEGORIES:Donated Events
URL;VALUE=URI:https://philomathscoutlodge.com/mc-events/quilts-from-caring-
 hands-3/?mc_id=78
METHOD:PUBLISH
END:VEVENT
END:VCALENDAR