BEGIN:VCALENDAR
VERSION:2.0
PRODID:spatie/icalendar-generator
DESCRIPTION:Events from philomathscoutlodge.com
X-WR-CALDESC:Events from philomathscoutlodge.com
REFRESH-INTERVAL;VALUE=DURATION:PT1440M
X-PUBLISHED-TTL:PT1440M
BEGIN:VTIMEZONE
TZID:Etc/GMT+0
BEGIN:STANDARD
DTSTART:20250719T090000Z
TZOFFSETFROM:+0000
TZOFFSETTO:+0000
END:STANDARD
END:VTIMEZONE
BEGIN:VTIMEZONE
TZID:UTC
BEGIN:STANDARD
DTSTART:20250729T160814Z
TZOFFSETFROM:+0000
TZOFFSETTO:+0000
END:STANDARD
END:VTIMEZONE
BEGIN:VEVENT
UID:248-113
DTSTAMP:20260425T160814Z
SUMMARY:Quilts from Caring Hands
LOCATION:
ORGANIZER;CN=PSL Staff:MAILTO:psli@peak.org
RRULE:FREQ=WEEKLY;UNTIL=20260716T000000Z
DTSTART;TZID=Etc/GMT+0:20260415T090000
DTEND;TZID=Etc/GMT+0:20260415T120000
X-ALT-DESC;FMTTYPE=TEXT/HTML:Fry: Rented Monthly by QCH Starker 1 &amp;amp\; 2:
  Tier 1\, donated by PSL
CATEGORIES:Community Use
URL;VALUE=URI:https://philomathscoutlodge.com/mc-events/quilts-from-caring-
 hands-7/?mc_id=248
METHOD:PUBLISH
END:VEVENT
END:VCALENDAR