BEGIN:VCALENDAR
VERSION:2.0
PRODID:spatie/icalendar-generator
DESCRIPTION:Events from philomathscoutlodge.com
X-WR-CALDESC:Events from philomathscoutlodge.com
REFRESH-INTERVAL;VALUE=DURATION:PT1440M
X-PUBLISHED-TTL:PT1440M
BEGIN:VTIMEZONE
TZID:Etc/GMT+0
BEGIN:STANDARD
DTSTART:20231107T130000Z
TZOFFSETFROM:+0000
TZOFFSETTO:+0000
END:STANDARD
END:VTIMEZONE
BEGIN:VTIMEZONE
TZID:UTC
BEGIN:STANDARD
DTSTART:20250729T214135Z
TZOFFSETFROM:+0000
TZOFFSETTO:+0000
END:STANDARD
END:VTIMEZONE
BEGIN:VEVENT
UID:24-16
DTSTAMP:20260425T214135Z
SUMMARY:Richard Miller Memorial
LOCATION:
ORGANIZER;CN=PSL Staff:MAILTO:psli@peak.org
DTSTART;TZID=Etc/GMT+0:20240803T130000
DTEND;TZID=Etc/GMT+0:20240803T180000
X-ALT-DESC;FMTTYPE=TEXT/HTML:Great Hall\, Kitchen\, Projector\, &amp;amp\; Scre
 en
CATEGORIES:Donated Events
URL;VALUE=URI:https://philomathscoutlodge.com/mc-events/richard-miller-memo
 rial/
METHOD:PUBLISH
END:VEVENT
END:VCALENDAR