BEGIN:VCALENDAR
VERSION:2.0
PRODID:spatie/icalendar-generator
DESCRIPTION:Events from philomathscoutlodge.com
X-WR-CALDESC:Events from philomathscoutlodge.com
REFRESH-INTERVAL;VALUE=DURATION:PT1440M
X-PUBLISHED-TTL:PT1440M
BEGIN:VTIMEZONE
TZID:Etc/GMT+0
BEGIN:STANDARD
DTSTART:20250807T174000Z
TZOFFSETFROM:+0000
TZOFFSETTO:+0000
END:STANDARD
END:VTIMEZONE
BEGIN:VTIMEZONE
TZID:UTC
BEGIN:STANDARD
DTSTART:20250729T162415Z
TZOFFSETFROM:+0000
TZOFFSETTO:+0000
END:STANDARD
END:VTIMEZONE
BEGIN:VEVENT
UID:223-102
DTSTAMP:20260425T162415Z
SUMMARY:Cub Scouts Pack 2
LOCATION:
ORGANIZER;CN=PSL Staff:MAILTO:psli@peak.org
DTSTART;TZID=Etc/GMT+0:20260504T174000
DTEND;TZID=Etc/GMT+0:20260504T193000
X-ALT-DESC;FMTTYPE=TEXT/HTML:Tier 1: Ralph Hull &amp;amp\; Outside Areas
CATEGORIES:Community Use
URL;VALUE=URI:https://philomathscoutlodge.com/mc-events/cub-scouts-pack-2-1
 0/
METHOD:PUBLISH
END:VEVENT
END:VCALENDAR