BEGIN:VCALENDAR
VERSION:2.0
PRODID:spatie/icalendar-generator
DESCRIPTION:Events from philomathscoutlodge.com
X-WR-CALDESC:Events from philomathscoutlodge.com
REFRESH-INTERVAL;VALUE=DURATION:PT1440M
X-PUBLISHED-TTL:PT1440M
BEGIN:VTIMEZONE
TZID:Etc/GMT+0
BEGIN:STANDARD
DTSTART:20250318T130000Z
TZOFFSETFROM:+0000
TZOFFSETTO:+0000
END:STANDARD
END:VTIMEZONE
BEGIN:VTIMEZONE
TZID:UTC
BEGIN:STANDARD
DTSTART:20250730T023722Z
TZOFFSETFROM:+0000
TZOFFSETTO:+0000
END:STANDARD
END:VTIMEZONE
BEGIN:VEVENT
UID:209-88
DTSTAMP:20260426T023722Z
SUMMARY:B&amp;amp\;G Logging/ Wren Hill Lumber Holiday Party
LOCATION:
ORGANIZER;CN=PSL Staff:MAILTO:psli@peak.org
DTSTART;TZID=Etc/GMT+0:20251213T130000
DTEND;TZID=Etc/GMT+0:20251213T230000
X-ALT-DESC;FMTTYPE=TEXT/HTML:Great Hall\, Kitchen
CATEGORIES:Community Use
URL;VALUE=URI:https://philomathscoutlodge.com/mc-events/bg-logging-wren-hil
 l-lumber-holiday-party/
METHOD:PUBLISH
END:VEVENT
END:VCALENDAR