BEGIN:VCALENDAR
VERSION:2.0
PRODID:spatie/icalendar-generator
DESCRIPTION:Events from philomathscoutlodge.com
X-WR-CALDESC:Events from philomathscoutlodge.com
REFRESH-INTERVAL;VALUE=DURATION:PT1440M
X-PUBLISHED-TTL:PT1440M
BEGIN:VTIMEZONE
TZID:Etc/GMT+0
BEGIN:STANDARD
DTSTART:20240924T000000Z
TZOFFSETFROM:+0000
TZOFFSETTO:+0000
END:STANDARD
END:VTIMEZONE
BEGIN:VTIMEZONE
TZID:UTC
BEGIN:STANDARD
DTSTART:20250730T024528Z
TZOFFSETFROM:+0000
TZOFFSETTO:+0000
END:STANDARD
END:VTIMEZONE
BEGIN:VEVENT
UID:19-5
DTSTAMP:20260426T024528Z
SUMMARY:Alana &amp;amp\; Logan's Wedding
LOCATION:Philomath Scout Lodge 660 CLEMENS MILL RD  PHILOMATH\, OR 97370
ORGANIZER;CN=PSL Staff:MAILTO:psli@peak.org
DTSTART;TZID=Etc/GMT+0;VALUE=DATE:20250621
DTEND;TZID=Etc/GMT+0;VALUE=DATE:20250622
X-ALT-DESC;FMTTYPE=TEXT/HTML:Great Hall\, Starker 1 &amp;amp\; 2\, Outside Area
CATEGORIES:Wedding
URL;VALUE=URI:https://philomathscoutlodge.com/mc-events/alana-logans-weddin
 g/
METHOD:PUBLISH
END:VEVENT
END:VCALENDAR