BEGIN:VCALENDAR
VERSION:2.0
PRODID:spatie/icalendar-generator
DESCRIPTION:Events from philomathscoutlodge.com
X-WR-CALDESC:Events from philomathscoutlodge.com
REFRESH-INTERVAL;VALUE=DURATION:PT1440M
X-PUBLISHED-TTL:PT1440M
BEGIN:VTIMEZONE
TZID:Etc/GMT+0
BEGIN:STANDARD
DTSTART:20240509T080000Z
TZOFFSETFROM:+0000
TZOFFSETTO:+0000
END:STANDARD
END:VTIMEZONE
BEGIN:VTIMEZONE
TZID:UTC
BEGIN:STANDARD
DTSTART:20250729T221832Z
TZOFFSETFROM:+0000
TZOFFSETTO:+0000
END:STANDARD
END:VTIMEZONE
BEGIN:VEVENT
UID:184-67
DTSTAMP:20260425T221832Z
SUMMARY:Pioneer Connect
LOCATION:
ORGANIZER;CN=PSL Staff:MAILTO:psli@peak.org
DTSTART;TZID=Etc/GMT+0:20250203T080000
DTEND;TZID=Etc/GMT+0:20250203T140000
X-ALT-DESC;FMTTYPE=TEXT/HTML:Starker 1\, 55\" TV
CATEGORIES:Community Use
URL;VALUE=URI:https://philomathscoutlodge.com/mc-events/pioneer-connect/
METHOD:PUBLISH
END:VEVENT
END:VCALENDAR