BEGIN:VCALENDAR
VERSION:2.0
PRODID:spatie/icalendar-generator
DESCRIPTION:Events from philomathscoutlodge.com
X-WR-CALDESC:Events from philomathscoutlodge.com
REFRESH-INTERVAL;VALUE=DURATION:PT1440M
X-PUBLISHED-TTL:PT1440M
BEGIN:VTIMEZONE
TZID:Etc/GMT+0
BEGIN:STANDARD
DTSTART:20240416T120000Z
TZOFFSETFROM:+0000
TZOFFSETTO:+0000
END:STANDARD
END:VTIMEZONE
BEGIN:VTIMEZONE
TZID:UTC
BEGIN:STANDARD
DTSTART:20250729T160821Z
TZOFFSETFROM:+0000
TZOFFSETTO:+0000
END:STANDARD
END:VTIMEZONE
BEGIN:VEVENT
UID:179-62
DTSTAMP:20260425T160821Z
SUMMARY:Andrew Barnes Celebration of Life
LOCATION:
ORGANIZER;CN=PSL Staff:MAILTO:psli@peak.org
DTSTART;TZID=Etc/GMT+0:20250111T120000
DTEND;TZID=Etc/GMT+0:20250111T160000
X-ALT-DESC;FMTTYPE=TEXT/HTML:Great Hall\, Ralph Hull\, projector/screen 12:
 00pm-4:00pm
CATEGORIES:Community Use
URL;VALUE=URI:https://philomathscoutlodge.com/mc-events/andrew-barnes-celeb
 ration-of-life/
METHOD:PUBLISH
END:VEVENT
END:VCALENDAR