BEGIN:VCALENDAR
VERSION:2.0
PRODID:spatie/icalendar-generator
DESCRIPTION:Events from philomathscoutlodge.com
X-WR-CALDESC:Events from philomathscoutlodge.com
REFRESH-INTERVAL;VALUE=DURATION:PT1440M
X-PUBLISHED-TTL:PT1440M
BEGIN:VTIMEZONE
TZID:Etc/GMT+0
BEGIN:STANDARD
DTSTART:20240227T090000Z
TZOFFSETFROM:+0000
TZOFFSETTO:+0000
END:STANDARD
END:VTIMEZONE
BEGIN:VTIMEZONE
TZID:UTC
BEGIN:STANDARD
DTSTART:20250729T202550Z
TZOFFSETFROM:+0000
TZOFFSETTO:+0000
END:STANDARD
END:VTIMEZONE
BEGIN:VEVENT
UID:174-57
DTSTAMP:20260425T202550Z
SUMMARY:Region 3 K9: Searched and Rescue Training
LOCATION:
ORGANIZER;CN=PSL Staff:MAILTO:psli@peak.org
DTSTART;TZID=Etc/GMT+0:20241123T090000
DTEND;TZID=Etc/GMT+0:20241123T120000
X-ALT-DESC;FMTTYPE=TEXT/HTML:PSL donated the outdoor area for this event.
CATEGORIES:Community Use
URL;VALUE=URI:https://philomathscoutlodge.com/mc-events/region-3-k9-searche
 d-and-rescue-training/
METHOD:PUBLISH
END:VEVENT
END:VCALENDAR