BEGIN:VCALENDAR
VERSION:2.0
PRODID:spatie/icalendar-generator
DESCRIPTION:Events from philomathscoutlodge.com
X-WR-CALDESC:Events from philomathscoutlodge.com
REFRESH-INTERVAL;VALUE=DURATION:PT1440M
X-PUBLISHED-TTL:PT1440M
BEGIN:VTIMEZONE
TZID:Etc/GMT+0
BEGIN:STANDARD
DTSTART:20240303T000000Z
TZOFFSETFROM:+0000
TZOFFSETTO:+0000
END:STANDARD
END:VTIMEZONE
BEGIN:VTIMEZONE
TZID:UTC
BEGIN:STANDARD
DTSTART:20250729T160923Z
TZOFFSETFROM:+0000
TZOFFSETTO:+0000
END:STANDARD
END:VTIMEZONE
BEGIN:VEVENT
UID:173-56
DTSTAMP:20260425T160923Z
SUMMARY:Happy Thanksgiving!
LOCATION:
ORGANIZER;CN=PSL Staff:MAILTO:psli@peak.org
DTSTART;TZID=Etc/GMT+0;VALUE=DATE:20241128
DTEND;TZID=Etc/GMT+0;VALUE=DATE:20241130
X-ALT-DESC;FMTTYPE=TEXT/HTML:PSL Office Closed for the Thanksgiving holiday
  11/28-11/29/2024
CATEGORIES:Community Use
URL;VALUE=URI:https://philomathscoutlodge.com/mc-events/happy-thanksgiving/
METHOD:PUBLISH
END:VEVENT
END:VCALENDAR