BEGIN:VCALENDAR
VERSION:2.0
PRODID:spatie/icalendar-generator
DESCRIPTION:Events from philomathscoutlodge.com
X-WR-CALDESC:Events from philomathscoutlodge.com
REFRESH-INTERVAL;VALUE=DURATION:PT1440M
X-PUBLISHED-TTL:PT1440M
BEGIN:VTIMEZONE
TZID:Etc/GMT+0
BEGIN:STANDARD
DTSTART:20240427T090000Z
TZOFFSETFROM:+0000
TZOFFSETTO:+0000
END:STANDARD
END:VTIMEZONE
BEGIN:VTIMEZONE
TZID:UTC
BEGIN:STANDARD
DTSTART:20250729T162235Z
TZOFFSETFROM:+0000
TZOFFSETTO:+0000
END:STANDARD
END:VTIMEZONE
BEGIN:VEVENT
UID:123-53
DTSTAMP:20260425T162235Z
SUMMARY:Quilts from Caring Hands
LOCATION:
ORGANIZER;CN=PSL Staff:MAILTO:psli@peak.org
RRULE:FREQ=WEEKLY;UNTIL=20251218T000000Z
DTSTART;TZID=Etc/GMT+0:20250122T090000
DTEND;TZID=Etc/GMT+0:20250122T120000
X-ALT-DESC;FMTTYPE=TEXT/HTML:Starker 1 &amp;amp\; 2\, Fry room
CATEGORIES:Community Use
URL;VALUE=URI:https://philomathscoutlodge.com/mc-events/quilts-from-caring-
 hands-4/?mc_id=123
METHOD:PUBLISH
END:VEVENT
END:VCALENDAR