BEGIN:VCALENDAR
VERSION:2.0
PRODID:spatie/icalendar-generator
DESCRIPTION:Events from philomathscoutlodge.com
X-WR-CALDESC:Events from philomathscoutlodge.com
REFRESH-INTERVAL;VALUE=DURATION:PT1440M
X-PUBLISHED-TTL:PT1440M
BEGIN:VTIMEZONE
TZID:Etc/GMT+0
BEGIN:STANDARD
DTSTART:20240213T160000Z
TZOFFSETFROM:+0000
TZOFFSETTO:+0000
END:STANDARD
END:VTIMEZONE
BEGIN:VTIMEZONE
TZID:UTC
BEGIN:STANDARD
DTSTART:20250729T181310Z
TZOFFSETFROM:+0000
TZOFFSETTO:+0000
END:STANDARD
END:VTIMEZONE
BEGIN:VEVENT
UID:112-48
DTSTAMP:20260425T181310Z
SUMMARY:Laswell &amp;amp\; Thomas Wedding Rehearsal
LOCATION:
ORGANIZER;CN=PSL Staff:MAILTO:psli@peak.org
DTSTART;TZID=Etc/GMT+0:20241109T160000
DTEND;TZID=Etc/GMT+0:20241109T190000
X-ALT-DESC;FMTTYPE=TEXT/HTML:Great Hall\, 3hrs
CATEGORIES:Community Use
URL;VALUE=URI:https://philomathscoutlodge.com/mc-events/laswell-thomas-wedd
 ing-rehearsal/
METHOD:PUBLISH
END:VEVENT
END:VCALENDAR