BEGIN:VCALENDAR
VERSION:2.0
PRODID:spatie/icalendar-generator
DESCRIPTION:Events from philomathscoutlodge.com
X-WR-CALDESC:Events from philomathscoutlodge.com
REFRESH-INTERVAL;VALUE=DURATION:PT1440M
X-PUBLISHED-TTL:PT1440M
BEGIN:VTIMEZONE
TZID:Etc/GMT+0
BEGIN:STANDARD
DTSTART:20240319T130000Z
TZOFFSETFROM:+0000
TZOFFSETTO:+0000
END:STANDARD
END:VTIMEZONE
BEGIN:VTIMEZONE
TZID:UTC
BEGIN:STANDARD
DTSTART:20250729T181626Z
TZOFFSETFROM:+0000
TZOFFSETTO:+0000
END:STANDARD
END:VTIMEZONE
BEGIN:VEVENT
UID:101-34
DTSTAMP:20260425T181626Z
SUMMARY:B &amp;amp\; G Logging\, Wren Hill Lumber Holiday Party
LOCATION:
ORGANIZER;CN=PSL Staff:MAILTO:psli@peak.org
DTSTART;TZID=Etc/GMT+0:20241214T130000
DTEND;TZID=Etc/GMT+0:20241214T230000
X-ALT-DESC;FMTTYPE=TEXT/HTML:Great Hall\, Kitchen
CATEGORIES:Community Use
URL;VALUE=URI:https://philomathscoutlodge.com/mc-events/b-g-logging-wren-hi
 ll-lumber-holiday-party/
METHOD:PUBLISH
END:VEVENT
END:VCALENDAR